BEGIN:VCALENDAR
VERSION:2.0
METHOD:PUBLISH
X-WR-CALNAME;VALUE=TEXT:
PRODID:-//Drupal iCal API//EN
BEGIN:VEVENT
2025-11-05 02:00:00 AEDT
2025-11-05 03:30:00 AEDT
DTSTART:20251104T150000Z
DTEND:20251104T163000Z
SUMMARY:The Case of the Coal Basin in Southern Chile
UID:794fb98d-5a74-415f-8f34-3f04bb97028c
URL:https://rsha.cass.anu.edu.au/events/case-coal-basin-southern-chile
END:VEVENT
END:VCALENDAR
