BEGIN:VCALENDAR
VERSION:2.0
METHOD:PUBLISH
X-WR-CALNAME;VALUE=TEXT:
PRODID:-//Drupal iCal API//EN
BEGIN:VEVENT
2026-03-27 04:30:00 AEDT
2026-03-27 05:30:00 AEDT
DTSTART:20260326T173000Z
DTEND:20260326T183000Z
SUMMARY:Plant use in ancient northern Australia: evidence from linguistics
UID:84f1af3a-9b58-4660-9eb1-980b474dfbd0
URL:https://rsha.cass.anu.edu.au/events/plant-use-ancient-northern-australia-evidence-linguistics
END:VEVENT
END:VCALENDAR
